BEGIN:VCALENDAR
VERSION:2.0
PRODID:-//Studievereniging Infermera - ECPv6.15.20//NONSGML v1.0//EN
CALSCALE:GREGORIAN
METHOD:PUBLISH
X-WR-CALNAME:Studievereniging Infermera
X-ORIGINAL-URL:https://svinfermera.nl
X-WR-CALDESC:Evenementen voor Studievereniging Infermera
REFRESH-INTERVAL;VALUE=DURATION:PT1H
X-Robots-Tag:noindex
X-PUBLISHED-TTL:PT1H
BEGIN:VTIMEZONE
TZID:Europe/Paris
BEGIN:DAYLIGHT
TZOFFSETFROM:+0100
TZOFFSETTO:+0200
TZNAME:CEST
DTSTART:20240331T010000
END:DAYLIGHT
BEGIN:STANDARD
TZOFFSETFROM:+0200
TZOFFSETTO:+0100
TZNAME:CET
DTSTART:20241027T010000
END:STANDARD
BEGIN:DAYLIGHT
TZOFFSETFROM:+0100
TZOFFSETTO:+0200
TZNAME:CEST
DTSTART:20250330T010000
END:DAYLIGHT
BEGIN:STANDARD
TZOFFSETFROM:+0200
TZOFFSETTO:+0100
TZNAME:CET
DTSTART:20251026T010000
END:STANDARD
BEGIN:DAYLIGHT
TZOFFSETFROM:+0100
TZOFFSETTO:+0200
TZNAME:CEST
DTSTART:20260329T010000
END:DAYLIGHT
BEGIN:STANDARD
TZOFFSETFROM:+0200
TZOFFSETTO:+0100
TZNAME:CET
DTSTART:20261025T010000
END:STANDARD
BEGIN:DAYLIGHT
TZOFFSETFROM:+0100
TZOFFSETTO:+0200
TZNAME:CEST
DTSTART:20270328T010000
END:DAYLIGHT
BEGIN:STANDARD
TZOFFSETFROM:+0200
TZOFFSETTO:+0100
TZNAME:CET
DTSTART:20271031T010000
END:STANDARD
END:VTIMEZONE
BEGIN:VEVENT
DTSTART;TZID=Europe/Paris:20260309T130000
DTEND;TZID=Europe/Paris:20260309T170000
DTSTAMP:20260420T033521
CREATED:20260122T103814Z
LAST-MODIFIED:20260122T103814Z
UID:259-1773061200-1773075600@svinfermera.nl
SUMMARY:Snijzaal
DESCRIPTION:
URL:https://svinfermera.nl/event/snijzaal/
LOCATION:UMC Utrecht\, Heidelberglaan 100\, Utrecht\, Utrecht\, 3584CX\, Netherlands
CATEGORIES:Educatief
END:VEVENT
BEGIN:VEVENT
DTSTART;TZID=Europe/Paris:20260226T203000
DTEND;TZID=Europe/Paris:20260226T233000
DTSTAMP:20260420T033521
CREATED:20260122T103532Z
LAST-MODIFIED:20260122T103532Z
UID:257-1772137800-1772148600@svinfermera.nl
SUMMARY:Borrel
DESCRIPTION:
URL:https://svinfermera.nl/event/borrel/
LOCATION:Café Bolle\, Piusplein 8\, Tilburg\, Netherlands
CATEGORIES:Sociaal
END:VEVENT
BEGIN:VEVENT
DTSTART;TZID=Europe/Paris:20260226T190000
DTEND;TZID=Europe/Paris:20260226T203000
DTSTAMP:20260420T033521
CREATED:20260122T103507Z
LAST-MODIFIED:20260122T103507Z
UID:255-1772132400-1772137800@svinfermera.nl
SUMMARY:Algemene Leden Vergadering
DESCRIPTION:
URL:https://svinfermera.nl/event/algemene-leden-vergadering/
LOCATION:Café Bolle\, Piusplein 8\, Tilburg\, Netherlands
END:VEVENT
BEGIN:VEVENT
DTSTART;TZID=Europe/Paris:20260220T000000
DTEND;TZID=Europe/Paris:20260220T235959
DTSTAMP:20260420T033521
CREATED:20260122T103435Z
LAST-MODIFIED:20260122T103435Z
UID:253-1771545600-1771631999@svinfermera.nl
SUMMARY:Rondleiding werkveld
DESCRIPTION:
URL:https://svinfermera.nl/event/rondleiding-werkveld-2/
CATEGORIES:Werkveld
END:VEVENT
BEGIN:VEVENT
DTSTART;TZID=Europe/Paris:20260206T000000
DTEND;TZID=Europe/Paris:20260206T235959
DTSTAMP:20260420T033521
CREATED:20260122T103344Z
LAST-MODIFIED:20260205T094319Z
UID:249-1770336000-1770422399@svinfermera.nl
SUMMARY:Rondleiding GGZ Breburg
DESCRIPTION:
URL:https://svinfermera.nl/event/rondleiding-werkveld/
LOCATION:GGZ Breburg\, Korvelseweg 187\, Tilburg\, Brabant\, 5025JE\, Netherlands
CATEGORIES:Werkveld
END:VEVENT
BEGIN:VEVENT
DTSTART;TZID=Europe/Paris:20260102T203000
DTEND;TZID=Europe/Paris:20260102T235900
DTSTAMP:20260420T033521
CREATED:20251202T102935Z
LAST-MODIFIED:20251226T210749Z
UID:222-1767385800-1767398340@svinfermera.nl
SUMMARY:Nieuwjaarsborrel
DESCRIPTION:Lieve leden\, \nOp 2 januari is er een gezellig nieuwjaarsborrel om met elkaar het nieuwe jaar goed in te luiden! Sluit om 20.30 bij onze stamkroeg Bolle aan en geniet van een lekker drankje en gezelligheid. Het eerste rondje bier/wijn is van de vereniging als toast op het nieuwe jaar. \nHopelijk zien we je daar! \nLiefs\,\nBestuur Buijsen ❤️
URL:https://svinfermera.nl/event/nieuwjaarsborrel/
LOCATION:Café Bolle\, Piusplein 8\, Tilburg\, Netherlands
CATEGORIES:Sociaal
END:VEVENT
BEGIN:VEVENT
DTSTART;TZID=Europe/Paris:20251217T000000
DTEND;TZID=Europe/Paris:20251217T235959
DTSTAMP:20260420T033521
CREATED:20251202T102720Z
LAST-MODIFIED:20251202T103025Z
UID:219-1765929600-1766015999@svinfermera.nl
SUMMARY:Kerstcantus
DESCRIPTION:
URL:https://svinfermera.nl/event/kerstcantus/
LOCATION:Café Bolle\, Piusplein 8\, Tilburg\, Netherlands
CATEGORIES:Sociaal
END:VEVENT
BEGIN:VEVENT
DTSTART;TZID=Europe/Paris:20251211T153000
DTEND;TZID=Europe/Paris:20251211T170000
DTSTAMP:20260420T033521
CREATED:20251104T165959Z
LAST-MODIFIED:20251202T102809Z
UID:113-1765467000-1765472400@svinfermera.nl
SUMMARY:Pubquiz bij ontwikkelingsfestival
DESCRIPTION:
URL:https://svinfermera.nl/event/pubquiz-bij-ontwikkelingsfestival/
LOCATION:Fontys Tilburg\, Professor Goossenslaan 1\, Tilburg\, 5022DM\, Netherlands
CATEGORIES:Sociaal
END:VEVENT
BEGIN:VEVENT
DTSTART;TZID=Europe/Paris:20251113T210000
DTEND;TZID=Europe/Paris:20251113T233000
DTSTAMP:20260420T033521
CREATED:20251104T164706Z
LAST-MODIFIED:20251104T164708Z
UID:96-1763067600-1763076600@svinfermera.nl
SUMMARY:Constitutieborrel SV Infermera
DESCRIPTION:
URL:https://svinfermera.nl/event/constitutieborrel-sv-infermera/
LOCATION:Café Bolle\, Piusplein 8\, Tilburg\, Netherlands
CATEGORIES:Sociaal
END:VEVENT
BEGIN:VEVENT
DTSTART;TZID=Europe/Paris:20251110T180000
DTEND;TZID=Europe/Paris:20251110T210000
DTSTAMP:20260420T033521
CREATED:20251104T165434Z
LAST-MODIFIED:20251104T165434Z
UID:105-1762797600-1762808400@svinfermera.nl
SUMMARY:Workshop: Sterker in je schoenen staan
DESCRIPTION:
URL:https://svinfermera.nl/event/workshop-sterker-in-je-schoenen-staan/
LOCATION:Fontys Tilburg\, Professor Goossenslaan 1\, Tilburg\, 5022DM\, Netherlands
CATEGORIES:Persoonlijke ontwikkeling
END:VEVENT
BEGIN:VEVENT
DTSTART;TZID=Europe/Paris:20251103T130000
DTEND;TZID=Europe/Paris:20251103T143000
DTSTAMP:20260420T033521
CREATED:20251104T171547Z
LAST-MODIFIED:20251104T171855Z
UID:131-1762174800-1762180200@svinfermera.nl
SUMMARY:Medische rekenles
DESCRIPTION:
URL:https://svinfermera.nl/event/medische-rekenles/
LOCATION:Fontys Tilburg\, Professor Goossenslaan 1\, Tilburg\, 5022DM\, Netherlands
CATEGORIES:Educatief
ATTACH;FMTTYPE=image/jpeg:https://svinfermera.nl/wp-content/uploads/2025/11/a5dd7036-c476-48c6-ba38-a2c1026e1a1c-e1762276718636.jpg
END:VEVENT
END:VCALENDAR